BEGIN:VCALENDAR
VERSION:2.0
PRODID:-//REEP - ECPv6.15.12.2//NONSGML v1.0//EN
CALSCALE:GREGORIAN
METHOD:PUBLISH
X-ORIGINAL-URL:https://reepbutula.org
X-WR-CALDESC:Events for REEP
REFRESH-INTERVAL;VALUE=DURATION:PT1H
X-Robots-Tag:noindex
X-PUBLISHED-TTL:PT1H
BEGIN:VTIMEZONE
TZID:Africa/Nairobi
BEGIN:STANDARD
TZOFFSETFROM:+0300
TZOFFSETTO:+0300
TZNAME:EAT
DTSTART:20220101T000000
END:STANDARD
END:VTIMEZONE
BEGIN:VEVENT
DTSTART;TZID=Africa/Nairobi:20230821T080000
DTEND;TZID=Africa/Nairobi:20230821T170000
DTSTAMP:20260422T002149
CREATED:20230802T104410Z
LAST-MODIFIED:20230802T104521Z
UID:17271-1692604800-1692637200@reepbutula.org
SUMMARY:Gender Police Officers Training
DESCRIPTION:Our transformative training program\, “Advancing Gender Justice\,” is tailor-made for gender-sensitive police officers committed to promoting human rights\, combating gender-based violence (GBV)\, safeguarding children\, and advancing equality within their communities. This intensive and comprehensive training aims to equip police officers with the necessary knowledge and skills to become effective agents of change in the pursuit of gender equality and social justice. \nKey Training Components: \n\nHuman Rights: Participants will delve into the principles and application of human rights\, with a specific focus on gender equality and the protection of vulnerable individuals. Understanding the rights of all individuals is paramount for effective and empathetic policing.\nGender-Based Violence (GBV): Addressing the pressing issue of GBV\, the training will explore its root causes\, impact\, and the role of police officers in supporting survivors and holding perpetrators accountable. Officers will learn best practices for handling GBV cases with sensitivity and respect for survivors.\nChildren Matters: This segment will emphasize the protection of children’s rights\, ensuring child-friendly policing practices\, and the importance of early intervention to prevent and address issues affecting children in their communities.\nProgress and Equality: Participants will assess the progress made in achieving gender equality and identify areas where further action is needed. The training will explore strategies to dismantle gender biases and promote inclusive policing that values diversity.\nCase Studies and Practical Exercises: Through engaging case studies and hands-on exercises\, officers will apply their learnings to real-life scenarios\, enhancing their problem-solving and decision-making skills.\nStrengthening Community Engagement: Building trust and cooperation with the community is essential for effective policing. The training will emphasize the importance of community engagement and partnership-building to address gender-related issues collaboratively.\nEmpowering Officers as Change Agents: Our training aims to empower police officers to become advocates for gender justice within their organizations and communities. Participants will be equipped with tools to promote a culture of respect\, empathy\, and fairness within their police departments.\n\nOur team of expert facilitators\, including gender experts\, human rights advocates\, and law enforcement professionals\, will guide participants through this dynamic and interactive learning journey. By the end of the training\, gender police officers will be better equipped to contribute to a safer\, more equitable society\, where human rights are protected\, GBV is reduced\, children are safe\, and equality is upheld for all. Join us in this critical mission to build a more just and gender-inclusive world through transformative policing practices.
URL:https://reepbutula.org/event/gender-police-officers-training/
CATEGORIES:Children,Education,Helping
ATTACH;FMTTYPE=image/jpeg:https://reepbutula.org/wp-content/uploads/2023/08/IMG-20220708-WA0065.jpg
END:VEVENT
END:VCALENDAR